Name | Last modified | Size | Description | |
---|---|---|---|---|
Parent Directory | - | |||
install-summary.dcf | 03-Jul-2024 23:23 | 268 | ||
install-out.txt | 03-Jul-2024 23:23 | 1.0K | ||
checksrc-summary.dcf | 03-Jul-2024 23:23 | 442 | ||
checksrc-out.txt | 03-Jul-2024 23:23 | 4.6K | ||
buildsrc-summary.dcf | 03-Jul-2024 23:23 | 426 | ||
buildsrc-out.txt | 03-Jul-2024 23:23 | 815 | ||
buildbin-summary.dcf | 03-Jul-2024 23:23 | 527 | ||
buildbin-out.txt | 03-Jul-2024 23:23 | 1.2K | ||