Name | Last modified | Size | Description | |
---|---|---|---|---|
Parent Directory | - | |||
buildbin-summary.dcf | 12-Jun-2024 03:43 | 536 | ||
buildbin-out.txt | 12-Jun-2024 03:43 | 5.1K | ||
checksrc-out.txt | 12-Jun-2024 03:43 | 92K | ||
checksrc-summary.dcf | 12-Jun-2024 03:43 | 448 | ||
buildsrc-out.txt | 12-Jun-2024 03:43 | 890 | ||
buildsrc-summary.dcf | 12-Jun-2024 03:43 | 431 | ||
install-summary.dcf | 12-Jun-2024 03:43 | 271 | ||
install-out.txt | 12-Jun-2024 03:43 | 2.8K | ||