Name | Last modified | Size | Description | |
---|---|---|---|---|
Parent Directory | - | |||
install-summary.dcf | 03-Jul-2024 23:22 | 267 | ||
install-out.txt | 03-Jul-2024 23:22 | 1.2K | ||
checksrc-summary.dcf | 03-Jul-2024 23:22 | 440 | ||
checksrc-out.txt | 03-Jul-2024 23:22 | 4.3K | ||
buildsrc-summary.dcf | 03-Jul-2024 23:22 | 424 | ||
buildsrc-out.txt | 03-Jul-2024 23:22 | 919 | ||
buildbin-summary.dcf | 03-Jul-2024 23:22 | 524 | ||
buildbin-out.txt | 03-Jul-2024 23:22 | 1.4K | ||