Name | Last modified | Size | Description | |
---|---|---|---|---|
Parent Directory | - | |||
install-summary.dcf | 03-Jul-2024 23:20 | 262 | ||
install-out.txt | 03-Jul-2024 23:20 | 3.4K | ||
checksrc-summary.dcf | 03-Jul-2024 23:20 | 441 | ||
checksrc-out.txt | 03-Jul-2024 23:20 | 7.7K | ||
buildsrc-summary.dcf | 03-Jul-2024 23:20 | 440 | ||
buildsrc-out.txt | 03-Jul-2024 23:20 | 916 | ||
buildbin-summary.dcf | 03-Jul-2024 23:20 | 497 | ||
buildbin-out.txt | 03-Jul-2024 23:20 | 3.6K | ||