Name | Last modified | Size | Description | |
---|---|---|---|---|
Parent Directory | - | |||
install-out.txt | 03-Jul-2024 23:22 | 3.7K | ||
install-summary.dcf | 03-Jul-2024 23:22 | 263 | ||
buildsrc-out.txt | 03-Jul-2024 23:22 | 897 | ||
buildsrc-summary.dcf | 03-Jul-2024 23:22 | 418 | ||
checksrc-out.txt | 03-Jul-2024 23:22 | 7.9K | ||
checksrc-summary.dcf | 03-Jul-2024 23:22 | 438 | ||
buildbin-summary.dcf | 03-Jul-2024 23:22 | 511 | ||
buildbin-out.txt | 03-Jul-2024 23:22 | 6.3K | ||