Name | Last modified | Size | Description | |
---|---|---|---|---|
Parent Directory | - | |||
buildbin-out.txt | 03-Jul-2024 23:20 | 2.0K | ||
buildbin-summary.dcf | 03-Jul-2024 23:20 | 497 | ||
buildsrc-out.txt | 03-Jul-2024 23:20 | 856 | ||
buildsrc-summary.dcf | 03-Jul-2024 23:20 | 440 | ||
checksrc-out.txt | 03-Jul-2024 23:20 | 5.6K | ||
checksrc-summary.dcf | 03-Jul-2024 23:20 | 435 | ||
install-out.txt | 03-Jul-2024 23:20 | 1.9K | ||
install-summary.dcf | 03-Jul-2024 23:20 | 262 | ||