Name | Last modified | Size | Description | |
---|---|---|---|---|
Parent Directory | - | |||
buildsrc-out.txt | 10-May-2024 00:40 | 835 | ||
buildsrc-summary.dcf | 10-May-2024 00:40 | 418 | ||
checksrc-out.txt | 10-May-2024 00:40 | 4.9K | ||
checksrc-summary.dcf | 10-May-2024 00:40 | 439 | ||
install-out.txt | 10-May-2024 00:40 | 1.9K | ||
install-summary.dcf | 10-May-2024 00:40 | 264 | ||