Name | Last modified | Size | Description | |
---|---|---|---|---|
Parent Directory | - | |||
install-summary.dcf | 03-Jul-2024 23:20 | 269 | ||
install-out.txt | 03-Jul-2024 23:20 | 8.4K | ||
checksrc-summary.dcf | 03-Jul-2024 23:20 | 447 | ||
checksrc-out.txt | 03-Jul-2024 23:20 | 4.9K | ||
buildsrc-summary.dcf | 03-Jul-2024 23:20 | 452 | ||
buildsrc-out.txt | 03-Jul-2024 23:20 | 871 | ||
buildbin-summary.dcf | 03-Jul-2024 23:20 | 516 | ||
buildbin-out.txt | 03-Jul-2024 23:20 | 8.5K | ||