Name | Last modified | Size | Description | |
---|---|---|---|---|
Parent Directory | - | |||
install-summary.dcf | 03-Jul-2024 23:21 | 274 | ||
install-out.txt | 03-Jul-2024 23:21 | 1.0K | ||
checksrc-summary.dcf | 03-Jul-2024 23:21 | 453 | ||
checksrc-out.txt | 03-Jul-2024 23:21 | 4.8K | ||
buildsrc-summary.dcf | 03-Jul-2024 23:21 | 434 | ||
buildsrc-out.txt | 03-Jul-2024 23:21 | 864 | ||
buildbin-summary.dcf | 03-Jul-2024 23:21 | 543 | ||
buildbin-out.txt | 03-Jul-2024 23:21 | 1.2K | ||