Name | Last modified | Size | Description | |
---|---|---|---|---|
Parent Directory | - | |||
install-summary.dcf | 03-Jul-2024 23:20 | 272 | ||
checksrc-summary.dcf | 03-Jul-2024 23:20 | 455 | ||
buildsrc-summary.dcf | 03-Jul-2024 23:20 | 461 | ||
buildbin-summary.dcf | 03-Jul-2024 23:20 | 527 | ||
buildsrc-out.txt | 03-Jul-2024 23:20 | 849 | ||
install-out.txt | 03-Jul-2024 23:20 | 1.0K | ||
buildbin-out.txt | 03-Jul-2024 23:20 | 1.1K | ||
checksrc-out.txt | 03-Jul-2024 23:20 | 3.6K | ||