Index of /checkResults/3.19/bioc-LATEST/conumee/raw-results
Name
Last modified
Size
Description
Parent Directory
-
info.dcf
08-Jun-2024 09:23
276
kjohnson3/
08-Jun-2024 09:28
-
kunpeng2/
10-May-2024 00:40
-
lconway/
08-Jun-2024 09:26
-
merida1/
05-Mar-2024 01:39
-
nebbiolo1/
08-Jun-2024 09:24
-