Name | Last modified | Size | Description | |
---|---|---|---|---|
Parent Directory | - | |||
buildbin-summary.dcf | 24-Jul-2024 22:04 | 536 | ||
buildbin-out.txt | 24-Jul-2024 22:04 | 1.1K | ||
checksrc-summary.dcf | 24-Jul-2024 22:04 | 461 | ||
checksrc-out.txt | 24-Jul-2024 22:04 | 3.3K | ||
buildsrc-summary.dcf | 24-Jul-2024 22:04 | 467 | ||
buildsrc-out.txt | 24-Jul-2024 22:04 | 858 | ||
install-summary.dcf | 24-Jul-2024 22:04 | 275 | ||
install-out.txt | 24-Jul-2024 22:04 | 965 | ||