Name | Last modified | Size | Description | |
---|---|---|---|---|
Parent Directory | - | |||
buildbin-out.txt | 12-Jun-2024 03:42 | 1.2K | ||
buildbin-summary.dcf | 12-Jun-2024 03:42 | 550 | ||
buildsrc-out.txt | 12-Jun-2024 03:42 | 831 | ||
buildsrc-summary.dcf | 12-Jun-2024 03:42 | 435 | ||
checksrc-out.txt | 12-Jun-2024 03:42 | 3.3K | ||
checksrc-summary.dcf | 12-Jun-2024 03:42 | 458 | ||
install-out.txt | 12-Jun-2024 03:42 | 1.0K | ||
install-summary.dcf | 12-Jun-2024 03:42 | 275 | ||