Name | Last modified | Size | Description | |
---|---|---|---|---|
Parent Directory | - | |||
install-summary.dcf | 29-Jun-2024 06:41 | 262 | ||
install-out.txt | 29-Jun-2024 06:41 | 1.8K | ||
buildsrc-out.txt | 29-Jun-2024 06:41 | 949 | ||
buildsrc-summary.dcf | 29-Jun-2024 06:41 | 441 | ||
checksrc-summary.dcf | 29-Jun-2024 06:41 | 435 | ||
checksrc-out.txt | 29-Jun-2024 06:41 | 4.4K | ||
buildbin-out.txt | 29-Jun-2024 06:41 | 2.0K | ||
buildbin-summary.dcf | 29-Jun-2024 06:41 | 497 | ||