Name | Last modified | Size | Description | |
---|---|---|---|---|
Parent Directory | - | |||
buildbin-out.txt | 24-Jul-2024 22:05 | 4.1K | ||
buildbin-summary.dcf | 24-Jul-2024 22:05 | 513 | ||
buildsrc-out.txt | 24-Jul-2024 22:05 | 929 | ||
buildsrc-summary.dcf | 24-Jul-2024 22:05 | 419 | ||
checksrc-out.txt | 24-Jul-2024 22:05 | 3.9K | ||
checksrc-summary.dcf | 24-Jul-2024 22:05 | 432 | ||
install-out.txt | 24-Jul-2024 22:05 | 2.1K | ||
install-summary.dcf | 24-Jul-2024 22:05 | 263 | ||