Name | Last modified | Size | Description | |
---|---|---|---|---|
Parent Directory | - | |||
install-summary.dcf | 24-Jul-2024 22:04 | 264 | ||
checksrc-summary.dcf | 24-Jul-2024 22:04 | 439 | ||
buildsrc-summary.dcf | 24-Jul-2024 22:04 | 445 | ||
buildbin-summary.dcf | 24-Jul-2024 22:04 | 503 | ||
buildsrc-out.txt | 24-Jul-2024 22:04 | 921 | ||
install-out.txt | 24-Jul-2024 22:04 | 2.5K | ||
buildbin-out.txt | 24-Jul-2024 22:04 | 2.6K | ||
checksrc-out.txt | 24-Jul-2024 22:04 | 10K | ||