Name | Last modified | Size | Description | |
---|---|---|---|---|
Parent Directory | - | |||
buildbin-out.txt | 03-Jul-2024 23:21 | 5.4K | ||
buildbin-summary.dcf | 03-Jul-2024 23:21 | 518 | ||
buildsrc-out.txt | 03-Jul-2024 23:21 | 901 | ||
buildsrc-summary.dcf | 03-Jul-2024 23:21 | 422 | ||
checksrc-out.txt | 03-Jul-2024 23:21 | 10K | ||
checksrc-summary.dcf | 03-Jul-2024 23:21 | 436 | ||
install-out.txt | 03-Jul-2024 23:21 | 3.4K | ||
install-summary.dcf | 03-Jul-2024 23:21 | 266 | ||