Name | Last modified | Size | Description | |
---|---|---|---|---|
Parent Directory | - | |||
checksrc-out.txt | 03-Jul-2024 23:19 | 2.8K | ||
buildbin-out.txt | 03-Jul-2024 23:19 | 1.1K | ||
install-out.txt | 03-Jul-2024 23:19 | 1.0K | ||
buildsrc-out.txt | 03-Jul-2024 23:19 | 848 | ||
buildbin-summary.dcf | 03-Jul-2024 23:19 | 524 | ||
buildsrc-summary.dcf | 03-Jul-2024 23:19 | 458 | ||
checksrc-summary.dcf | 03-Jul-2024 23:19 | 453 | ||
install-summary.dcf | 03-Jul-2024 23:19 | 271 | ||