Name | Last modified | Size | Description | |
---|---|---|---|---|
Parent Directory | - | |||
install-summary.dcf | 03-Jul-2024 23:19 | 287 | ||
install-out.txt | 03-Jul-2024 23:19 | 1.0K | ||
checksrc-summary.dcf | 03-Jul-2024 23:19 | 485 | ||
checksrc-out.txt | 03-Jul-2024 23:19 | 3.4K | ||
buildsrc-summary.dcf | 03-Jul-2024 23:19 | 488 | ||
buildsrc-out.txt | 03-Jul-2024 23:19 | 888 | ||
buildbin-summary.dcf | 03-Jul-2024 23:19 | 572 | ||
buildbin-out.txt | 03-Jul-2024 23:19 | 1.1K | ||