Name | Last modified | Size | Description | |
---|---|---|---|---|
Parent Directory | - | |||
install-summary.dcf | 03-Jul-2024 23:22 | 286 | ||
buildsrc-summary.dcf | 03-Jul-2024 23:22 | 452 | ||
checksrc-summary.dcf | 03-Jul-2024 23:22 | 478 | ||
buildbin-summary.dcf | 03-Jul-2024 23:22 | 581 | ||
buildsrc-out.txt | 03-Jul-2024 23:22 | 881 | ||
install-out.txt | 03-Jul-2024 23:22 | 2.2K | ||
checksrc-out.txt | 03-Jul-2024 23:22 | 3.6K | ||
buildbin-out.txt | 03-Jul-2024 23:22 | 4.4K | ||