Name | Last modified | Size | Description | |
---|---|---|---|---|
Parent Directory | - | |||
buildbin-summary.dcf | 27-Jul-2024 06:38 | 555 | ||
buildbin-out.txt | 27-Jul-2024 06:38 | 6.0K | ||
checksrc-out.txt | 27-Jul-2024 06:38 | 4.5K | ||
checksrc-summary.dcf | 27-Jul-2024 06:38 | 473 | ||
buildsrc-summary.dcf | 27-Jul-2024 06:38 | 479 | ||
buildsrc-out.txt | 27-Jul-2024 06:38 | 905 | ||
install-summary.dcf | 27-Jul-2024 06:38 | 282 | ||
install-out.txt | 27-Jul-2024 06:38 | 5.8K | ||