Name | Last modified | Size | Description | |
---|---|---|---|---|
Parent Directory | - | |||
install-out.txt | 27-Jul-2024 06:37 | 5.3K | ||
checksrc-out.txt | 27-Jul-2024 06:37 | 4.7K | ||
buildsrc-out.txt | 27-Jul-2024 06:37 | 863 | ||
checksrc-summary.dcf | 27-Jul-2024 06:37 | 445 | ||
buildsrc-summary.dcf | 27-Jul-2024 06:37 | 436 | ||
install-summary.dcf | 27-Jul-2024 06:37 | 272 | ||