Name | Last modified | Size | Description | |
---|---|---|---|---|
Parent Directory | - | |||
install-summary.dcf | 24-Jul-2024 22:05 | 283 | ||
install-out.txt | 24-Jul-2024 22:05 | 5.1K | ||
checksrc-summary.dcf | 24-Jul-2024 22:05 | 476 | ||
checksrc-out.txt | 24-Jul-2024 22:05 | 4.9K | ||
buildsrc-summary.dcf | 24-Jul-2024 22:05 | 445 | ||
buildsrc-out.txt | 24-Jul-2024 22:05 | 873 | ||
buildbin-summary.dcf | 24-Jul-2024 22:05 | 570 | ||
buildbin-out.txt | 24-Jul-2024 22:05 | 7.7K | ||