Name | Last modified | Size | Description | |
---|---|---|---|---|
Parent Directory | - | |||
checksrc-summary.dcf | 10-May-2024 00:40 | 483 | ||
checksrc-out.txt | 10-May-2024 00:40 | 4.8K | ||
buildsrc-summary.dcf | 10-May-2024 00:40 | 448 | ||
buildsrc-out.txt | 10-May-2024 00:40 | 874 | ||
install-summary.dcf | 10-May-2024 00:40 | 284 | ||
install-out.txt | 10-May-2024 00:40 | 5.6K | ||