Name | Last modified | Size | Description | |
---|---|---|---|---|
Parent Directory | - | |||
install-out.txt | 12-Jun-2024 03:43 | 5.2K | ||
install-summary.dcf | 12-Jun-2024 03:43 | 282 | ||
buildsrc-out.txt | 12-Jun-2024 03:43 | 873 | ||
buildsrc-summary.dcf | 12-Jun-2024 03:43 | 447 | ||
checksrc-summary.dcf | 12-Jun-2024 03:43 | 476 | ||
checksrc-out.txt | 12-Jun-2024 03:43 | 4.9K | ||
buildbin-summary.dcf | 12-Jun-2024 03:43 | 570 | ||
buildbin-out.txt | 12-Jun-2024 03:43 | 7.7K | ||