Name | Last modified | Size | Description | |
---|---|---|---|---|
Parent Directory | - | |||
checksrc-out.txt | 27-Jul-2024 06:41 | 3.4K | ||
buildbin-out.txt | 27-Jul-2024 06:41 | 1.2K | ||
buildsrc-out.txt | 27-Jul-2024 06:41 | 1.1K | ||
install-out.txt | 27-Jul-2024 06:41 | 1.0K | ||
buildbin-summary.dcf | 27-Jul-2024 06:41 | 554 | ||
checksrc-summary.dcf | 27-Jul-2024 06:41 | 459 | ||
buildsrc-summary.dcf | 27-Jul-2024 06:41 | 439 | ||
install-summary.dcf | 27-Jul-2024 06:41 | 277 | ||