Name | Last modified | Size | Description | |
---|---|---|---|---|
Parent Directory | - | |||
install-out.txt | 12-Jun-2024 03:43 | 1.0K | ||
install-summary.dcf | 12-Jun-2024 03:43 | 276 | ||
buildsrc-out.txt | 12-Jun-2024 03:43 | 1.1K | ||
buildsrc-summary.dcf | 12-Jun-2024 03:43 | 439 | ||
checksrc-out.txt | 12-Jun-2024 03:43 | 3.4K | ||
checksrc-summary.dcf | 12-Jun-2024 03:43 | 459 | ||
buildbin-out.txt | 12-Jun-2024 03:43 | 1.2K | ||
buildbin-summary.dcf | 12-Jun-2024 03:43 | 553 | ||