Name | Last modified | Size | Description | |
---|---|---|---|---|
Parent Directory | - | |||
buildsrc-out.txt | 10-May-2024 00:41 | 1.1K | ||
buildsrc-summary.dcf | 10-May-2024 00:41 | 440 | ||
checksrc-out.txt | 09-May-2024 00:41 | 3.4K | ||
checksrc-summary.dcf | 09-May-2024 00:41 | 466 | ||
install-out.txt | 10-May-2024 00:41 | 1.0K | ||
install-summary.dcf | 10-May-2024 00:41 | 277 | ||