Name | Last modified | Size | Description | |
---|---|---|---|---|
Parent Directory | - | |||
install-summary.dcf | 03-Jul-2024 23:22 | 272 | ||
install-out.txt | 03-Jul-2024 23:22 | 2.1K | ||
checksrc-summary.dcf | 03-Jul-2024 23:22 | 451 | ||
checksrc-out.txt | 03-Jul-2024 23:22 | 7.8K | ||
buildsrc-summary.dcf | 03-Jul-2024 23:22 | 431 | ||
buildsrc-out.txt | 03-Jul-2024 23:22 | 916 | ||
buildbin-summary.dcf | 03-Jul-2024 23:22 | 539 | ||
buildbin-out.txt | 03-Jul-2024 23:22 | 4.2K | ||