Name | Last modified | Size | Description | |
---|---|---|---|---|
Parent Directory | - | |||
buildbin-out.txt | 03-Jul-2024 23:23 | 4.2K | ||
buildbin-summary.dcf | 03-Jul-2024 23:23 | 539 | ||
buildsrc-out.txt | 03-Jul-2024 23:23 | 916 | ||
buildsrc-summary.dcf | 03-Jul-2024 23:23 | 431 | ||
checksrc-out.txt | 03-Jul-2024 23:23 | 7.8K | ||
checksrc-summary.dcf | 03-Jul-2024 23:23 | 450 | ||
install-out.txt | 03-Jul-2024 23:23 | 2.1K | ||
install-summary.dcf | 03-Jul-2024 23:23 | 272 | ||