Name | Last modified | Size | Description | |
---|---|---|---|---|
Parent Directory | - | |||
buildsrc-out.txt | 24-Jul-2024 22:04 | 853 | ||
buildsrc-summary.dcf | 24-Jul-2024 22:04 | 405 | ||
checksrc-out.txt | 24-Jul-2024 22:04 | 4.4K | ||
checksrc-summary.dcf | 24-Jul-2024 22:04 | 398 | ||
install-out.txt | 24-Jul-2024 22:04 | 1.0K | ||
install-summary.dcf | 24-Jul-2024 22:04 | 251 | ||