Name | Last modified | Size | Description | |
---|---|---|---|---|
Parent Directory | - | |||
buildbin-out.txt | 12-Jun-2024 03:44 | 11K | ||
buildbin-summary.dcf | 12-Jun-2024 03:44 | 540 | ||
buildsrc-out.txt | 12-Jun-2024 03:44 | 1.2K | ||
buildsrc-summary.dcf | 12-Jun-2024 03:44 | 432 | ||
checksrc-out.txt | 12-Jun-2024 03:44 | 4.4K | ||
checksrc-summary.dcf | 12-Jun-2024 03:44 | 451 | ||
install-out.txt | 12-Jun-2024 03:44 | 9.4K | ||
install-summary.dcf | 12-Jun-2024 03:44 | 273 | ||