Name | Last modified | Size | Description | |
---|---|---|---|---|
Parent Directory | - | |||
checksrc-out.txt | 24-Jul-2024 22:03 | 3.7K | ||
checksrc-summary.dcf | 24-Jul-2024 22:03 | 410 | ||
buildsrc-summary.dcf | 24-Jul-2024 22:03 | 412 | ||
buildsrc-out.txt | 24-Jul-2024 22:03 | 865 | ||
install-summary.dcf | 24-Jul-2024 22:03 | 257 | ||
install-out.txt | 24-Jul-2024 22:03 | 1.2K | ||