Name | Last modified | Size | Description | |
---|---|---|---|---|
Parent Directory | - | |||
buildbin-out.txt | 24-Jul-2024 22:04 | 1.8K | ||
buildbin-summary.dcf | 24-Jul-2024 22:04 | 503 | ||
buildsrc-out.txt | 24-Jul-2024 22:04 | 921 | ||
buildsrc-summary.dcf | 24-Jul-2024 22:04 | 444 | ||
checksrc-out.txt | 24-Jul-2024 22:04 | 4.3K | ||
checksrc-summary.dcf | 24-Jul-2024 22:04 | 438 | ||
install-out.txt | 24-Jul-2024 22:04 | 1.7K | ||
install-summary.dcf | 24-Jul-2024 22:04 | 264 | ||