Name | Last modified | Size | Description | |
---|---|---|---|---|
Parent Directory | - | |||
buildsrc-out.txt | 24-Jul-2024 22:03 | 891 | ||
buildsrc-summary.dcf | 24-Jul-2024 22:03 | 411 | ||
checksrc-out.txt | 24-Jul-2024 22:03 | 4.2K | ||
checksrc-summary.dcf | 24-Jul-2024 22:03 | 405 | ||
install-out.txt | 24-Jul-2024 22:03 | 3.0K | ||
install-summary.dcf | 24-Jul-2024 22:03 | 254 | ||