Name | Last modified | Size | Description | |
---|---|---|---|---|
Parent Directory | - | |||
buildbin-out.txt | 29-Jun-2024 06:41 | 1.1K | ||
buildbin-summary.dcf | 29-Jun-2024 06:41 | 524 | ||
buildsrc-out.txt | 29-Jun-2024 06:41 | 849 | ||
buildsrc-summary.dcf | 29-Jun-2024 06:41 | 460 | ||
checksrc-out.txt | 29-Jun-2024 06:41 | 3.3K | ||
checksrc-summary.dcf | 29-Jun-2024 06:41 | 454 | ||
install-out.txt | 29-Jun-2024 06:41 | 1.0K | ||
install-summary.dcf | 29-Jun-2024 06:41 | 271 | ||