Name | Last modified | Size | Description | |
---|---|---|---|---|
Parent Directory | - | |||
install-summary.dcf | 12-Jun-2024 03:42 | 272 | ||
buildsrc-summary.dcf | 12-Jun-2024 03:42 | 433 | ||
checksrc-summary.dcf | 12-Jun-2024 03:42 | 451 | ||
buildbin-summary.dcf | 12-Jun-2024 03:42 | 541 | ||
buildsrc-out.txt | 12-Jun-2024 03:42 | 824 | ||
install-out.txt | 12-Jun-2024 03:42 | 1.0K | ||
buildbin-out.txt | 12-Jun-2024 03:42 | 1.2K | ||
checksrc-out.txt | 12-Jun-2024 03:42 | 3.2K | ||