Name | Last modified | Size | Description | |
---|---|---|---|---|
Parent Directory | - | |||
install-summary.dcf | 03-Jul-2024 23:22 | 296 | ||
install-out.txt | 03-Jul-2024 23:22 | 1.8K | ||
checksrc-summary.dcf | 03-Jul-2024 23:22 | 498 | ||
checksrc-out.txt | 03-Jul-2024 23:22 | 14K | ||
buildsrc-summary.dcf | 03-Jul-2024 23:22 | 468 | ||
buildsrc-out.txt | 03-Jul-2024 23:22 | 964 | ||
buildbin-summary.dcf | 03-Jul-2024 23:22 | 611 | ||
buildbin-out.txt | 03-Jul-2024 23:22 | 4.0K | ||