Name | Last modified | Size | Description | |
---|---|---|---|---|
Parent Directory | - | |||
buildsrc-out.txt | 03-Jul-2024 23:19 | 806 | ||
buildsrc-summary.dcf | 03-Jul-2024 23:19 | 417 | ||
checksrc-out.txt | 03-Jul-2024 23:19 | 9.6K | ||
checksrc-summary.dcf | 03-Jul-2024 23:19 | 414 | ||
install-out.txt | 03-Jul-2024 23:19 | 952 | ||
install-summary.dcf | 03-Jul-2024 23:19 | 259 | ||