Name | Last modified | Size | Description | |
---|---|---|---|---|
Parent Directory | - | |||
install-summary.dcf | 03-Jul-2024 23:20 | 266 | ||
install-out.txt | 03-Jul-2024 23:20 | 2.2K | ||
checksrc-summary.dcf | 03-Jul-2024 23:20 | 442 | ||
checksrc-out.txt | 03-Jul-2024 23:20 | 6.0K | ||
buildsrc-summary.dcf | 03-Jul-2024 23:20 | 447 | ||
buildsrc-out.txt | 03-Jul-2024 23:20 | 865 | ||
buildbin-summary.dcf | 03-Jul-2024 23:20 | 507 | ||
buildbin-out.txt | 03-Jul-2024 23:20 | 2.3K | ||