Index of /checkResults/3.19/bioc-LATEST/FRASER/raw-results/kjohnson3
Name
Last modified
Size
Description
Parent Directory
-
buildsrc-summary.dcf
12-Jun-2024 03:43
341
buildsrc-out.txt
12-Jun-2024 03:43
1.5K
install-summary.dcf
12-Jun-2024 03:43
267
install-out.txt
12-Jun-2024 03:43
2.6K