Name | Last modified | Size | Description | |
---|---|---|---|---|
Parent Directory | - | |||
install-summary.dcf | 29-Jun-2024 06:41 | 264 | ||
checksrc-summary.dcf | 29-Jun-2024 06:41 | 439 | ||
buildsrc-summary.dcf | 29-Jun-2024 06:41 | 444 | ||
buildbin-summary.dcf | 29-Jun-2024 06:41 | 503 | ||
buildsrc-out.txt | 29-Jun-2024 06:41 | 1.0K | ||
install-out.txt | 29-Jun-2024 06:41 | 1.5K | ||
buildbin-out.txt | 29-Jun-2024 06:41 | 1.7K | ||
checksrc-out.txt | 29-Jun-2024 06:41 | 5.1K | ||