Name | Last modified | Size | Description | |
---|---|---|---|---|
Parent Directory | - | |||
buildbin-out.txt | 03-Jul-2024 23:21 | 30K | ||
install-out.txt | 03-Jul-2024 23:21 | 28K | ||
checksrc-out.txt | 03-Jul-2024 23:21 | 4.9K | ||
buildsrc-out.txt | 03-Jul-2024 23:21 | 866 | ||
buildbin-summary.dcf | 03-Jul-2024 23:21 | 561 | ||
checksrc-summary.dcf | 03-Jul-2024 23:21 | 470 | ||
buildsrc-summary.dcf | 03-Jul-2024 23:21 | 443 | ||
install-summary.dcf | 03-Jul-2024 23:21 | 280 | ||