Name | Last modified | Size | Description | |
---|---|---|---|---|
Parent Directory | - | |||
checksrc-out.txt | 03-Jul-2024 23:20 | 5.7K | ||
buildsrc-out.txt | 03-Jul-2024 23:20 | 1.2K | ||
buildbin-out.txt | 03-Jul-2024 23:20 | 1.1K | ||
install-out.txt | 03-Jul-2024 23:20 | 1.0K | ||
buildbin-summary.dcf | 03-Jul-2024 23:20 | 521 | ||
buildsrc-summary.dcf | 03-Jul-2024 23:20 | 457 | ||
checksrc-summary.dcf | 03-Jul-2024 23:20 | 451 | ||
install-summary.dcf | 03-Jul-2024 23:20 | 270 | ||