Index of /checkResults/3.19/bioc-LATEST/DaMiRseq/raw-results/kjohnson3
Name
Last modified
Size
Description
Parent Directory
-
buildsrc-summary.dcf
12-Jun-2024 03:43
346
buildsrc-out.txt
12-Jun-2024 03:43
1.5K
install-summary.dcf
12-Jun-2024 03:43
271
install-out.txt
12-Jun-2024 03:43
1.0K