Name | Last modified | Size | Description | |
---|---|---|---|---|
Parent Directory | - | |||
buildbin-out.txt | 24-Jul-2024 22:05 | 4.0K | ||
buildbin-summary.dcf | 24-Jul-2024 22:05 | 523 | ||
buildsrc-out.txt | 24-Jul-2024 22:05 | 842 | ||
buildsrc-summary.dcf | 24-Jul-2024 22:05 | 424 | ||
checksrc-out.txt | 24-Jul-2024 22:05 | 4.7K | ||
checksrc-summary.dcf | 24-Jul-2024 22:05 | 445 | ||
install-out.txt | 24-Jul-2024 22:05 | 2.0K | ||
install-summary.dcf | 24-Jul-2024 22:05 | 267 | ||