Name | Last modified | Size | Description | |
---|---|---|---|---|
Parent Directory | - | |||
buildbin-summary.dcf | 12-Jun-2024 03:43 | 524 | ||
buildbin-out.txt | 12-Jun-2024 03:43 | 4.3K | ||
checksrc-out.txt | 12-Jun-2024 03:43 | 4.7K | ||
checksrc-summary.dcf | 12-Jun-2024 03:43 | 445 | ||
buildsrc-summary.dcf | 12-Jun-2024 03:43 | 423 | ||
buildsrc-out.txt | 12-Jun-2024 03:43 | 842 | ||
install-summary.dcf | 12-Jun-2024 03:43 | 267 | ||
install-out.txt | 12-Jun-2024 03:43 | 2.3K | ||