Name | Last modified | Size | Description | |
---|---|---|---|---|
Parent Directory | - | |||
buildbin-out.txt | 24-Jul-2024 22:07 | 4.3K | ||
buildbin-summary.dcf | 24-Jul-2024 22:07 | 524 | ||
buildsrc-out.txt | 24-Jul-2024 22:07 | 842 | ||
buildsrc-summary.dcf | 24-Jul-2024 22:07 | 424 | ||
checksrc-out.txt | 24-Jul-2024 22:07 | 4.7K | ||
checksrc-summary.dcf | 24-Jul-2024 22:07 | 445 | ||
install-out.txt | 24-Jul-2024 22:07 | 2.3K | ||
install-summary.dcf | 24-Jul-2024 22:07 | 267 | ||