Name | Last modified | Size | Description | |
---|---|---|---|---|
Parent Directory | - | |||
install-out.txt | 24-Jul-2024 22:04 | 1.7K | ||
install-summary.dcf | 24-Jul-2024 22:04 | 270 | ||
buildsrc-out.txt | 24-Jul-2024 22:04 | 936 | ||
buildsrc-summary.dcf | 24-Jul-2024 22:04 | 456 | ||
checksrc-out.txt | 24-Jul-2024 22:04 | 10K | ||
checksrc-summary.dcf | 24-Jul-2024 22:04 | 457 | ||
buildbin-out.txt | 24-Jul-2024 22:04 | 1.9K | ||
buildbin-summary.dcf | 24-Jul-2024 22:04 | 521 | ||