Name | Last modified | Size | Description | |
---|---|---|---|---|
Parent Directory | - | |||
buildsrc-out.txt | 27-Jul-2024 06:38 | 903 | ||
buildsrc-summary.dcf | 27-Jul-2024 06:38 | 420 | ||
checksrc-out.txt | 27-Jul-2024 06:38 | 10K | ||
checksrc-summary.dcf | 27-Jul-2024 06:38 | 421 | ||
install-out.txt | 27-Jul-2024 06:38 | 1.7K | ||
install-summary.dcf | 27-Jul-2024 06:38 | 261 | ||